BEGIN:VCALENDAR
VERSION:2.0
PRODID:-//Living with the Law - ECPv4.8.1//NONSGML v1.0//EN
CALSCALE:GREGORIAN
METHOD:PUBLISH
X-WR-CALNAME:Living with the Law
X-ORIGINAL-URL:https://livingwiththelaw.com
X-WR-CALDESC:Events for Living with the Law
BEGIN:VEVENT
DTSTART;TZID=America/New_York:20130822T190000
DTEND;TZID=America/New_York:20130822T220000
DTSTAMP:20260424T173642
CREATED:20130813T141846Z
LAST-MODIFIED:20130813T142829Z
UID:630-1377198000-1377208800@livingwiththelaw.com
SUMMARY:Tribute to Congressman Walter E. Fauntroy
DESCRIPTION:Living with the Law in cooperation with the United Black Fund and Operation Beloved Communities for Peace will host a Tribute to Congressman Walter E. Fauntroy on the Eve of the historic 50th Year Anniversary of the March on Washington. \nThe Tribute will be held at Tony Cheng's Restaurant in D.C.'s Chinatown\, on Thursday\, 22 August 2013\, beginning at 7:00 p.m. and will feature a Buffet Dinner\, Live Music and Special Presentations. The cost to attendees is $25. \nCongressman Fauntroy served in the House of Representatives for two decades\, after having served as Vice-Chair of the appointed D.C. Council. At the same time\, he was the Pastor of the Church of his childhood\, New Bethel Baptist\, while leaving an indelible mark across the landscape of America. In the history of Washington DC\, no other person has had the impact of advancing the rights of the people of the District of Columbia more than Congressman Walter E. Fauntroy. As a soldier for Dr. Martin Luther King\, Jr. he convinced Dr. King to join him in pushing for D.C. Home Rule. As a member of Congress\, he played a pivotal role in getting the House and Senate to pass the D.C. Voting Rights Amendment – by super-majorities\, two-thirds of each body!  The greatest Tribute you can pay for his unparalleled work is to join in helping to lobby Congress to support the D.C. Statehood Bill. You may do so by signing up at the Tribute or sending your contact information to AttorneyJB@comcast.net. \nThis will be an event that marks another milestone in America's muddied history when it comes to race\, rights and equal treatment. \nFor more details\, view the flyer. \nTickets: Purchase tickets by calling (202) 882-2828 or sending e-mail to AttorneyJB@comcast.net. \n
URL:https://livingwiththelaw.com/event/tribute-to-congressman-walter-e-fauntroy/
LOCATION:Tony Cheng’s Restaurant\, 619 H Street\, NW\, Washington\, DC\, 20001\, United States
CATEGORIES:Tribute
ATTACH;FMTTYPE=image/png:https://livingwiththelaw.com/wp-content/uploads/2013/08/FAUNTROY-PODIUM.png
ORGANIZER;CN="Living%20with%20the%20Law":MAILTO:AttorneyJB@comcast.net
END:VEVENT
END:VCALENDAR