BEGIN:VCALENDAR
VERSION:2.0
PRODID:-//Living with the Law - ECPv4.8.1//NONSGML v1.0//EN
CALSCALE:GREGORIAN
METHOD:PUBLISH
X-WR-CALNAME:Living with the Law
X-ORIGINAL-URL:https://livingwiththelaw.com
X-WR-CALDESC:Events for Living with the Law
BEGIN:VEVENT
DTSTART;TZID=America/New_York:20230921T200000
DTEND;TZID=America/New_York:20230923T233000
DTSTAMP:20260424T162114
CREATED:20230808T164932Z
LAST-MODIFIED:20230808T165011Z
UID:1583-1695326400-1695511800@livingwiththelaw.com
SUMMARY:THREE NIGHTS TO PICK A PRINCESS - DURING CBC WEEKEND - SEPTEMBER 21-23. THE LAST NIGHT\, NIGHT THREE\, SHE BECOMES MS. DMV 2024
DESCRIPTION:\nview flyer\nTickets: Night 1 | Night 2 | Night 3\nNight One\, welcome GoGo from SOCIAL FLOW BAND and SHOW. Kapture Regulars KAYLA\, the next Debbie Allen\, will perform\, while DJ MARTY spins the music for hours of dancing. Our July Model of the Month\, FATIMA M. SESAY\, will moderate the evening. Brilliant! \n>> Buy tickets to Night One << \nAt least ten Designers\, with their products\, and a select group of Kapture Models will be present\, including our newest Male Model. Buy something\, and we will present you in it\, as the evening progresses\, while our Top Shelf Photographers/Videographers "Kapture" your images to keep. A fascinating night of memories. \nDO YOU WANT TO BE THE NEXT MS. DMV? DO YOU WANT TO BE ON THE COVER OF THE KAPTURE KALENDAR FOR 2024? \nPRIZES INCLUDE A PHOTO SHOOT AND A MAGAZINE COVER\, FEATURING DESIGNS BY THE ONE AND ONLY MALCOLM STAPLES; A TRIP TO THE VIRGIN ISLANDS\, JOINING THE KAPTURE MODELS; BRAND AMBASSADOR FOR AN EXCITING PRODUCT; CASH; MORE! \nPRELIMINARIES - NIGHT ONE - The Great room at Historic Savage Mills - Featuring talented models\, making magic\, in dance & song. \n>> Buy tickets to Night One << \nFINAL SELECTIONS - NIGHT TWO - The Campus in Capitol Heights\, Maryland (includes roller skating) \n>> Buy tickets to Night Two << \nTHE CROWNING OF MS. DMV 2024 - NIGHT THREE - Featuring SANDRA ASH and the hot HOWARD BURNS QUINTET\, AYANNA GREGORY and her BAND. LIMOUSINE NIGHT. The hottest tickets. \n>> Buy tickets to Night Three << \nAND\, INTRODUCING THE OFFICIAL SWIMWEAR WHEN WE TOUR THE VIRGIN ISLANDS\, OFFICIAL HOTEL\, THE BRAND-NEW WESTIN! \n
URL:https://livingwiththelaw.com/event/three-nights-to-pick-a-princess-during-cbc-weekend-september-21-23-the-last-night-night-three-she-becomes-ms-dmv-2024/
LOCATION:DC\, United States
CATEGORIES:Concert,Fashion Show
ATTACH;FMTTYPE=image/jpeg:https://livingwiththelaw.com/wp-content/uploads/2023/08/3-nights-to-pick-a-princess.jpg
ORGANIZER;CN="Living%20with%20the%20Law":MAILTO:AttorneyJB@comcast.net
END:VEVENT
END:VCALENDAR