BEGIN:VCALENDAR
VERSION:2.0
PRODID:-//Living with the Law - ECPv4.8.1//NONSGML v1.0//EN
CALSCALE:GREGORIAN
METHOD:PUBLISH
X-WR-CALNAME:Living with the Law
X-ORIGINAL-URL:https://livingwiththelaw.com
X-WR-CALDESC:Events for Living with the Law
BEGIN:VEVENT
DTSTART;TZID=America/New_York:20120921T200000
DTEND;TZID=America/New_York:20120921T235500
DTSTAMP:20260424T161818
CREATED:20120814T184032Z
LAST-MODIFIED:20130131T022258Z
UID:341-1348257600-1348271700@livingwiththelaw.com
SUMMARY:During Congressional Black Caucus Week-End - "Live"
DESCRIPTION: \nFor the past four years\, artists and activists have gathered in Washington\, D.C. to promote the effort to make the residential and commercial parts of Washington\, D.C. the 51st State. This year\, we plan to take that program on the road\, with hopes of covering many states in the fall of 2012 and the spring and summer of 2013. \nThis Event\, a continuation of our D.C. Statehood Teach-In and Concert Series --- with the brilliant artists we have assembled --- will serve as a Prelude to our Tour. My Periodical\, Living with the Law\, is the prime sponsor of the Event and theTour. If you wish to join us on the Tour\, go to my website www.livingwiththelaw.com for details. \nWe are delighted to have Ayanna Gregory\, a unique and wonderful vocalist\, and daughter of celebrated Comedian and Human Rights Activist Dick Gregory. We believe this will be a memorable\, enjoyable evening. Don't miss it! \nJoin us on September 21st for the continuation of the D.C. Statehood Teach-In and Concert Series\, and then join us on the Tour. Thank you. \nJohnny Barnes\nPublisher and Editor\, Living with the Law \n
URL:https://livingwiththelaw.com/event/during-congressional-black-caucus-week-end-live/
LOCATION:Grand Ballroom\, The Washington Court Hotel\, 525 New Jersey Avenue NW\, Washington\, DC\, 20001\, United States
CATEGORIES:D.C. Statehood Teach-In and Concert Series
ATTACH;FMTTYPE=image/jpeg:https://livingwiththelaw.com/wp-content/uploads/2013/09/ayana-gregory.jpg
END:VEVENT
END:VCALENDAR