BEGIN:VCALENDAR
VERSION:2.0
PRODID:-//Living with the Law - ECPv4.8.1//NONSGML v1.0//EN
CALSCALE:GREGORIAN
METHOD:PUBLISH
X-WR-CALNAME:Living with the Law
X-ORIGINAL-URL:https://livingwiththelaw.com
X-WR-CALDESC:Events for Living with the Law
BEGIN:VEVENT
DTSTART;TZID=America/New_York:20130920T190000
DTEND;TZID=America/New_York:20130920T235500
DTSTAMP:20260424T161952
CREATED:20130829T165612Z
LAST-MODIFIED:20140428T140325Z
UID:646-1379703600-1379721300@livingwiththelaw.com
SUMMARY:During Congressional Black Caucus Week-End – Ayanna Gregory\, and Her Band – “Live”
DESCRIPTION:For the past six years\, artists and activists have gathered in Washington\, D.C. to promote the effort to make the residential and commercial parts of Washington\, D.C. the 51st State. This year\, we plan to take that program on the road\, with hopes of covering many states in the fall of 2013 and the spring and summer of 2014. \n\npurchase tickets | view the event flyer \nThis Event\, a continuation of our D.C. Statehood Teach-In and Concert Series — with the brilliant artists we have assembled — will serve as a Prelude to our Tour. My Periodical\, Living with the Law\, is the prime sponsor of the Event and theTour. If you wish to join us on the Tour\, go to my website beginning in October livingwiththelaw.com for details. \nWe are delighted to have Ayanna Gregory\, a unique and wonderful vocalist\, and daughter of celebrated Comedian and Human Rights Activist Dick Gregory. In addition to her Band\, Ayanna will be joined by vocalists Charm and Mariessa. There will also be Fashion Scenes and other surprises. We believe this will be a memorable\, enjoyable evening. Don’t miss it! \nJoin us on September 20th for the continuation of the D.C. Statehood Teach-In and Concert Series\, and then join us on the Tour. Thank you. \npurchase tickets | view the event flyer \n
URL:https://livingwiththelaw.com/event/during-congressional-black-caucus-week-end-ayanna-gregory-and-her-band-live/
LOCATION:Atrium Ballroom\, The Washington Court Hotel\, 525 New Jersey Avenue NW\, Washington\, DC\, 20001\, United States
CATEGORIES:D.C. Statehood Teach-In and Concert Series
ATTACH;FMTTYPE=image/jpeg:https://livingwiththelaw.com/wp-content/uploads/2013/08/agregory-bcw-2013.jpg
END:VEVENT
END:VCALENDAR