BEGIN:VCALENDAR
VERSION:2.0
PRODID:-//Living with the Law - ECPv4.8.1//NONSGML v1.0//EN
CALSCALE:GREGORIAN
METHOD:PUBLISH
X-WR-CALNAME:Living with the Law
X-ORIGINAL-URL:https://livingwiththelaw.com
X-WR-CALDESC:Events for Living with the Law
BEGIN:VEVENT
DTSTART;TZID=America/New_York:20130525T200000
DTEND;TZID=America/New_York:20130525T220000
DTSTAMP:20260424T162220
CREATED:20130425T105504Z
LAST-MODIFIED:20130425T105829Z
UID:583-1369512000-1369519200@livingwiththelaw.com
SUMMARY:A Soul-Full Evening with Ayanna Gregory and Her Band - "Live" - The D.C. Statehood Concert Series Continue
DESCRIPTION:For the past five years\, artists and activists have gathered in Washington\, D.C. to promote the effort to make the residential and commercial parts of Washington\, D.C. the 51st State. This year\, we plan to take that program on the road\, with hopes of covering many states in the fall of 2013 and the spring and summer of 2014. \nThis Event\, a continuation of our D.C. Statehood Teach-In and Concert Series --- with the brilliant artists we have assembled --- will serve as a Prelude to our Tour. My Periodical\, Living with the Law\, is the prime sponsor of the Event and theTour. If you wish to join us on the Tour\, look for future details at this Web Site. \nWe are delighted to have Ayanna Gregory\, a unique and wonderful vocalist\, and daughter of celebrated Comedian and Human Rights Activist Dick Gregory. We believe this will be a memorable\, enjoyable evening. Don’t miss it! \nThose who purchase V.I.P. Tickets will be able to attend the After Party and mingle with the artists and will receive an autographed copy of Ayannna's new\, exciting CD. \nJoin us on May 25th for the continuation of the D.C. Statehood Teach-In and Concert Series\, and then join us on the Tour. Thank you. \nFor the Spring Teach In schedule of events\, view the event flyer. \n
URL:https://livingwiththelaw.com/event/a-soul-full-evening-with-ayanna-gregory-and-her-band-live-the-d-c-statehood-concert-series-continue/
LOCATION:The Washington Ethical Society\, Main Hall\, 7750 16th Street NW\, Washington\, DC\, 20012\, United States
CATEGORIES:D.C. Statehood Teach-In and Concert Series
ATTACH;FMTTYPE=image/jpeg:https://livingwiththelaw.com/wp-content/uploads/2013/04/052513-event-thumb.jpg
END:VEVENT
END:VCALENDAR